BEGIN:VCALENDAR
VERSION:2.0
PRODID:-//Nadeen School - ECPv6.15.20//NONSGML v1.0//EN
CALSCALE:GREGORIAN
METHOD:PUBLISH
X-ORIGINAL-URL:https://nadeenschool.com
X-WR-CALDESC:Events for Nadeen School
REFRESH-INTERVAL;VALUE=DURATION:PT1H
X-Robots-Tag:noindex
X-PUBLISHED-TTL:PT1H
BEGIN:VTIMEZONE
TZID:UTC
BEGIN:STANDARD
TZOFFSETFROM:+0000
TZOFFSETTO:+0000
TZNAME:UTC
DTSTART:20240101T000000
END:STANDARD
END:VTIMEZONE
BEGIN:VEVENT
DTSTART;VALUE=DATE:20250417
DTEND;VALUE=DATE:20250418
DTSTAMP:20260423T000626
CREATED:20250402T000045Z
LAST-MODIFIED:20250404T173935Z
UID:1616-1744848000-1744934399@nadeenschool.com
SUMMARY:Movie Night
DESCRIPTION:Please join us for an enjoyable evening at Movie Night\, where we’ll come together to watch a fantastic film with family and friends.
URL:https://nadeenschool.com/event/movie-night/
ATTACH;FMTTYPE=image/jpeg:https://nadeenschool.com/wp-content/uploads/2025/04/movie-night-1.jpg
END:VEVENT
END:VCALENDAR