BEGIN:VCALENDAR
VERSION:2.0
PRODID:-//Nadeen School - ECPv6.15.20//NONSGML v1.0//EN
CALSCALE:GREGORIAN
METHOD:PUBLISH
X-ORIGINAL-URL:https://nadeenschool.com
X-WR-CALDESC:Events for Nadeen School
REFRESH-INTERVAL;VALUE=DURATION:PT1H
X-Robots-Tag:noindex
X-PUBLISHED-TTL:PT1H
BEGIN:VTIMEZONE
TZID:UTC
BEGIN:STANDARD
TZOFFSETFROM:+0000
TZOFFSETTO:+0000
TZNAME:UTC
DTSTART:20240101T000000
END:STANDARD
END:VTIMEZONE
BEGIN:VEVENT
DTSTART;VALUE=DATE:20250501
DTEND;VALUE=DATE:20250502
DTSTAMP:20260422T225229
CREATED:20250428T115452Z
LAST-MODIFIED:20250428T115452Z
UID:2080-1746057600-1746143999@nadeenschool.com
SUMMARY:Wellness Fair
DESCRIPTION:Experience a day of health\, fun\, and community spirit at our very first Wellness Fair.
URL:https://nadeenschool.com/event/wellness-fair/
ATTACH;FMTTYPE=image/jpeg:https://nadeenschool.com/wp-content/uploads/2025/04/wellness.jpg
END:VEVENT
END:VCALENDAR