BEGIN:VCALENDAR
VERSION:2.0
PRODID:-//Nadeen School - ECPv6.15.20//NONSGML v1.0//EN
CALSCALE:GREGORIAN
METHOD:PUBLISH
X-WR-CALNAME:Nadeen School
X-ORIGINAL-URL:https://nadeenschool.com
X-WR-CALDESC:Events for Nadeen School
REFRESH-INTERVAL;VALUE=DURATION:PT1H
X-Robots-Tag:noindex
X-PUBLISHED-TTL:PT1H
BEGIN:VTIMEZONE
TZID:UTC
BEGIN:STANDARD
TZOFFSETFROM:+0000
TZOFFSETTO:+0000
TZNAME:UTC
DTSTART:20250101T000000
END:STANDARD
END:VTIMEZONE
BEGIN:VEVENT
DTSTART;VALUE=DATE:20260422
DTEND;VALUE=DATE:20260423
DTSTAMP:20260422T095958
CREATED:20250628T131845Z
LAST-MODIFIED:20250628T131845Z
UID:2855-1776816000-1776902399@nadeenschool.com
SUMMARY:Teach Meet 6
DESCRIPTION:
URL:https://nadeenschool.com/event/teach-meet-6/
END:VEVENT
BEGIN:VEVENT
DTSTART;VALUE=DATE:20260422
DTEND;VALUE=DATE:20260423
DTSTAMP:20260422T095958
CREATED:20250628T131923Z
LAST-MODIFIED:20250628T131923Z
UID:2857-1776816000-1776902399@nadeenschool.com
SUMMARY:Earth Day
DESCRIPTION:
URL:https://nadeenschool.com/event/earth-day/
END:VEVENT
BEGIN:VEVENT
DTSTART;VALUE=DATE:20260422
DTEND;VALUE=DATE:20260423
DTSTAMP:20260422T095958
CREATED:20250628T132004Z
LAST-MODIFIED:20250628T132004Z
UID:2859-1776816000-1776902399@nadeenschool.com
SUMMARY:Inclusion Workshop
DESCRIPTION:
URL:https://nadeenschool.com/event/inclusion-workshop-7/
END:VEVENT
BEGIN:VEVENT
DTSTART;VALUE=DATE:20260422
DTEND;VALUE=DATE:20260423
DTSTAMP:20260422T095958
CREATED:20250805T104420Z
LAST-MODIFIED:20250805T104420Z
UID:3035-1776816000-1776902399@nadeenschool.com
SUMMARY:Year 11 Learner Conferences 3
DESCRIPTION:
URL:https://nadeenschool.com/event/year-11-learner-conferences-3/
END:VEVENT
END:VCALENDAR