BEGIN:VCALENDAR
VERSION:2.0
PRODID:-//Nadeen School - ECPv6.15.20//NONSGML v1.0//EN
CALSCALE:GREGORIAN
METHOD:PUBLISH
X-ORIGINAL-URL:https://nadeenschool.com
X-WR-CALDESC:Events for Nadeen School
REFRESH-INTERVAL;VALUE=DURATION:PT1H
X-Robots-Tag:noindex
X-PUBLISHED-TTL:PT1H
BEGIN:VTIMEZONE
TZID:UTC
BEGIN:STANDARD
TZOFFSETFROM:+0000
TZOFFSETTO:+0000
TZNAME:UTC
DTSTART:20250101T000000
END:STANDARD
END:VTIMEZONE
BEGIN:VEVENT
DTSTART;VALUE=DATE:20260301
DTEND;VALUE=DATE:20260306
DTSTAMP:20260420T055403
CREATED:20250625T124644Z
LAST-MODIFIED:20250625T124644Z
UID:2694-1772323200-1772755199@nadeenschool.com
SUMMARY:Book Week
DESCRIPTION:Discover new stories and adventures during our vibrant Book Fair week.
URL:https://nadeenschool.com/event/book-week/
END:VEVENT
BEGIN:VEVENT
DTSTART;VALUE=DATE:20260303
DTEND;VALUE=DATE:20260304
DTSTAMP:20260420T055403
CREATED:20250625T125015Z
LAST-MODIFIED:20250625T125015Z
UID:2696-1772496000-1772582399@nadeenschool.com
SUMMARY:World Wildlife Day
DESCRIPTION:World Wildlife Day is a global celebration of the incredible diversity of animals and plants on our planet. At Nadeen\, we mark this day by learning about the importance of protecting wildlife and their habitats.
URL:https://nadeenschool.com/event/world-wildlife-day/
END:VEVENT
BEGIN:VEVENT
DTSTART;VALUE=DATE:20260305
DTEND;VALUE=DATE:20260306
DTSTAMP:20260420T055403
CREATED:20250625T125259Z
LAST-MODIFIED:20250625T125259Z
UID:2698-1772668800-1772755199@nadeenschool.com
SUMMARY:World Book Day
DESCRIPTION:On World Book Day\, we celebrate by dressing up as characters from our favourite books.
URL:https://nadeenschool.com/event/world-book-day/
END:VEVENT
BEGIN:VEVENT
DTSTART;TZID=UTC:20260307T100000
DTEND;TZID=UTC:20260307T120000
DTSTAMP:20260420T055403
CREATED:20250625T125553Z
LAST-MODIFIED:20250625T125553Z
UID:2700-1772877600-1772884800@nadeenschool.com
SUMMARY:Admissions Open Morning
DESCRIPTION:We’re welcoming our prospective families to campus to experience first-hand our inclusive environment\, learner-centred pedagogy\, and innovative teaching practices.
URL:https://nadeenschool.com/event/admissions-open-morning-5/
END:VEVENT
BEGIN:VEVENT
DTSTART;VALUE=DATE:20260308
DTEND;VALUE=DATE:20260309
DTSTAMP:20260420T055403
CREATED:20250625T125945Z
LAST-MODIFIED:20250625T125945Z
UID:2702-1772928000-1773014399@nadeenschool.com
SUMMARY:International Women's Day
DESCRIPTION:International Women’s Day is a global celebration of the achievements of women. It is a special day to acknowledge the successes\, contributions\, and sacrifices of women from all walks of life. We are honoured to celebrate the women in our community\, from our staff to our parents. \nWe are grateful for you!
URL:https://nadeenschool.com/event/international-womens-day/
END:VEVENT
BEGIN:VEVENT
DTSTART;VALUE=DATE:20260308
DTEND;VALUE=DATE:20260313
DTSTAMP:20260420T055403
CREATED:20250628T131711Z
LAST-MODIFIED:20251110T091950Z
UID:2849-1772928000-1773359999@nadeenschool.com
SUMMARY:Environment/Eco Week
DESCRIPTION:
URL:https://nadeenschool.com/event/environment-eco-week/
END:VEVENT
BEGIN:VEVENT
DTSTART;VALUE=DATE:20260312
DTEND;VALUE=DATE:20260313
DTSTAMP:20260420T055403
CREATED:20250625T132144Z
LAST-MODIFIED:20250625T132543Z
UID:2706-1773273600-1773359999@nadeenschool.com
SUMMARY:Ghabgha
DESCRIPTION:A traditional evening gathering during the holy month of Ramadan. A memorable occasion to bring our community together and embrace togetherness and generosity during this special time.
URL:https://nadeenschool.com/event/ghabgha/
END:VEVENT
BEGIN:VEVENT
DTSTART;VALUE=DATE:20260315
DTEND;VALUE=DATE:20260316
DTSTAMP:20260420T055403
CREATED:20250625T132649Z
LAST-MODIFIED:20250625T132649Z
UID:2709-1773532800-1773619199@nadeenschool.com
SUMMARY:Pi Competition
DESCRIPTION:Celebrate mathematical curiosity and creativity in our Pi Competition.
URL:https://nadeenschool.com/event/pi-competition-2/
END:VEVENT
BEGIN:VEVENT
DTSTART;VALUE=DATE:20260315
DTEND;VALUE=DATE:20260319
DTSTAMP:20260420T055403
CREATED:20250625T130233Z
LAST-MODIFIED:20250625T130233Z
UID:2704-1773532800-1773878399@nadeenschool.com
SUMMARY:Neurodiversity Week
DESCRIPTION:During Neurodiversity Week\, we celebrate the many ways our brains work and learn. \nAt Nadeen School\, we embrace the strengths\, talents\, and unique perspectives of all individuals\, fostering a culture of understanding\, acceptance\, and inclusion.
URL:https://nadeenschool.com/event/neurodiversity-week/
END:VEVENT
BEGIN:VEVENT
DTSTART;VALUE=DATE:20260315
DTEND;VALUE=DATE:20260320
DTSTAMP:20260420T055403
CREATED:20251103T095843Z
LAST-MODIFIED:20251103T095843Z
UID:3402-1773532800-1773964799@nadeenschool.com
SUMMARY:Science Week - Primary
DESCRIPTION:
URL:https://nadeenschool.com/event/science-week-primary/
END:VEVENT
BEGIN:VEVENT
DTSTART;TZID=UTC:20260316T081500
DTEND;TZID=UTC:20260316T090000
DTSTAMP:20260420T055403
CREATED:20250625T132939Z
LAST-MODIFIED:20250625T133000Z
UID:2711-1773648900-1773651600@nadeenschool.com
SUMMARY:Early Years Open Morning
DESCRIPTION:Join us for Early Years Open Morning\, an opportunity to explore our inspiring  learning environment\, meet our passionate team\, and discover how we support each child’s unique journey from the very beginning.
URL:https://nadeenschool.com/event/early-years-open-morning-5/
END:VEVENT
BEGIN:VEVENT
DTSTART;VALUE=DATE:20260317
DTEND;VALUE=DATE:20260319
DTSTAMP:20260420T055403
CREATED:20251103T100207Z
LAST-MODIFIED:20251103T100207Z
UID:3404-1773705600-1773878399@nadeenschool.com
SUMMARY:Science Fair
DESCRIPTION:
URL:https://nadeenschool.com/event/science-fair/
END:VEVENT
BEGIN:VEVENT
DTSTART;VALUE=DATE:20260319
DTEND;VALUE=DATE:20260320
DTSTAMP:20260420T055403
CREATED:20250805T095139Z
LAST-MODIFIED:20250805T095246Z
UID:3025-1773878400-1773964799@nadeenschool.com
SUMMARY:Eid Public Holiday
DESCRIPTION:This holiday is subject to change.
URL:https://nadeenschool.com/event/eid-public-holiday/
END:VEVENT
BEGIN:VEVENT
DTSTART;VALUE=DATE:20260319
DTEND;VALUE=DATE:20260406
DTSTAMP:20260420T055403
CREATED:20250625T143448Z
LAST-MODIFIED:20260407T055221Z
UID:2736-1773878400-1775433599@nadeenschool.com
SUMMARY:Spring Holiday
DESCRIPTION:Wishing everyone a wonderful spring holiday!
URL:https://nadeenschool.com/event/spring-holiday/
END:VEVENT
BEGIN:VEVENT
DTSTART;VALUE=DATE:20260320
DTEND;VALUE=DATE:20260321
DTSTAMP:20260420T055403
CREATED:20250625T134028Z
LAST-MODIFIED:20250625T134028Z
UID:2713-1773964800-1774051199@nadeenschool.com
SUMMARY:International Day of Happiness
DESCRIPTION:The International Day of Happiness is a global celebration that reminds us of the importance of kindness\, gratitude\, and wellbeing.
URL:https://nadeenschool.com/event/international-day-of-happiness/
END:VEVENT
BEGIN:VEVENT
DTSTART;VALUE=DATE:20260321
DTEND;VALUE=DATE:20260322
DTSTAMP:20260420T055403
CREATED:20250625T134447Z
LAST-MODIFIED:20250625T134447Z
UID:2715-1774051200-1774137599@nadeenschool.com
SUMMARY:World Down Syndrome Day
DESCRIPTION:World Down Syndrome Day is a global day of awareness that celebrates the uniqueness\, strengths\, and contributions of individuals with Down syndrome.
URL:https://nadeenschool.com/event/world-down-syndrome-day/
END:VEVENT
BEGIN:VEVENT
DTSTART;VALUE=DATE:20260322
DTEND;VALUE=DATE:20260324
DTSTAMP:20260420T055403
CREATED:20250805T095323Z
LAST-MODIFIED:20250805T095323Z
UID:3027-1774137600-1774310399@nadeenschool.com
SUMMARY:Eid Public Holiday
DESCRIPTION:This holiday is subject to change.
URL:https://nadeenschool.com/event/eid-public-holiday-2/
END:VEVENT
BEGIN:VEVENT
DTSTART;VALUE=DATE:20260325
DTEND;VALUE=DATE:20260326
DTSTAMP:20260420T055403
CREATED:20250625T134957Z
LAST-MODIFIED:20250625T134957Z
UID:2717-1774396800-1774483199@nadeenschool.com
SUMMARY:Primary Coffee with the Principal & Vice Principal
DESCRIPTION:We invite you to join us for Primary Coffee with the Principal & Vice Principal\, a welcoming space to connect\, share\, and collaborate in support of our learners’ growth and wellbeing.
URL:https://nadeenschool.com/event/primary-coffee-with-the-principal-vice-principal-3/
END:VEVENT
BEGIN:VEVENT
DTSTART;VALUE=DATE:20260325
DTEND;VALUE=DATE:20260326
DTSTAMP:20260420T055403
CREATED:20250805T095556Z
LAST-MODIFIED:20250805T095556Z
UID:3029-1774396800-1774483199@nadeenschool.com
SUMMARY:Primary Learner Conferences 2
DESCRIPTION:
URL:https://nadeenschool.com/event/primary-learner-conferences-2/
END:VEVENT
BEGIN:VEVENT
DTSTART;VALUE=DATE:20260326
DTEND;VALUE=DATE:20260327
DTSTAMP:20260420T055403
CREATED:20250625T135325Z
LAST-MODIFIED:20250625T135325Z
UID:2721-1774483200-1774569599@nadeenschool.com
SUMMARY:Secondary Coffee with the Principal & Vice Principal
DESCRIPTION:We invite you to join us for Secondary Coffee with the Principal & Vice Principal\, a welcoming space to connect\, share\, and collaborate in support of our learners’ growth and wellbeing.
URL:https://nadeenschool.com/event/secondary-coffee-with-the-principal-vice-principal-2/
END:VEVENT
BEGIN:VEVENT
DTSTART;VALUE=DATE:20260326
DTEND;VALUE=DATE:20260329
DTSTAMP:20260420T055403
CREATED:20250625T135608Z
LAST-MODIFIED:20250625T135608Z
UID:2723-1774483200-1774742399@nadeenschool.com
SUMMARY:Duke of Edinburgh Silver Expedition
DESCRIPTION:Our learners will embark on the Duke of Edinburgh Silver Expedition\, testing their skills and resilience.
URL:https://nadeenschool.com/event/duke-of-edinburgh-silver-expedition/
END:VEVENT
BEGIN:VEVENT
DTSTART;TZID=UTC:20260326T170000
DTEND;TZID=UTC:20260326T183000
DTSTAMP:20260420T055403
CREATED:20250625T135115Z
LAST-MODIFIED:20250625T135115Z
UID:2719-1774544400-1774549800@nadeenschool.com
SUMMARY:Family Movie Night
DESCRIPTION:Join us for Family Movie Night\,  a wonderful evening filled with laughter\, snacks\, and togetherness as we enjoy a film with our school community.
URL:https://nadeenschool.com/event/family-movie-night-2/
END:VEVENT
BEGIN:VEVENT
DTSTART;VALUE=DATE:20260328
DTEND;VALUE=DATE:20260329
DTSTAMP:20260420T055403
CREATED:20250625T140953Z
LAST-MODIFIED:20250625T140953Z
UID:2725-1774656000-1774742399@nadeenschool.com
SUMMARY:Nadeen Sporting Celebrations (TBC) - Olympians etc.
DESCRIPTION:Our Nadeen Sporting Celebrations are a joyful showcase of teamwork\, determination\, and school spirit.
URL:https://nadeenschool.com/event/nadeen-sporting-celebrations-tbc-olympians-etc/
END:VEVENT
BEGIN:VEVENT
DTSTART;VALUE=DATE:20260329
DTEND;VALUE=DATE:20260330
DTSTAMP:20260420T055403
CREATED:20250625T141124Z
LAST-MODIFIED:20250625T141124Z
UID:2727-1774742400-1774828799@nadeenschool.com
SUMMARY:Inclusion Workshop
DESCRIPTION:Join us for our Inclusion Workshop\, a meaningful session focused on fostering understanding\, celebrating diversity\, and building a truly inclusive school community.
URL:https://nadeenschool.com/event/inclusion-workshop-4/
END:VEVENT
BEGIN:VEVENT
DTSTART;VALUE=DATE:20260329
DTEND;VALUE=DATE:20260330
DTSTAMP:20260420T055403
CREATED:20250805T095741Z
LAST-MODIFIED:20250805T095741Z
UID:3031-1774742400-1774828799@nadeenschool.com
SUMMARY:Year 10 Learner Conferences 3
DESCRIPTION:
URL:https://nadeenschool.com/event/year-10-learner-conferences-3/
END:VEVENT
BEGIN:VEVENT
DTSTART;TZID=UTC:20260329T080000
DTEND;TZID=UTC:20260402T170000
DTSTAMP:20260420T055403
CREATED:20250928T103033Z
LAST-MODIFIED:20250928T103033Z
UID:3284-1774771200-1775149200@nadeenschool.com
SUMMARY:Book Week
DESCRIPTION:This event will be taking place on first floor\, next to the sports hall.
URL:https://nadeenschool.com/event/book-week-2/
END:VEVENT
BEGIN:VEVENT
DTSTART;VALUE=DATE:20260330
DTEND;VALUE=DATE:20260331
DTSTAMP:20260420T055403
CREATED:20250625T141939Z
LAST-MODIFIED:20250625T142112Z
UID:2729-1774828800-1774915199@nadeenschool.com
SUMMARY:Year 1 & Year 2 Show (am + pm)
DESCRIPTION:Our talented Year 1 and Year 2 learners are ready to put on confident and joyful performances.
URL:https://nadeenschool.com/event/year-1-year-2-show-am-pm/
END:VEVENT
BEGIN:VEVENT
DTSTART;VALUE=DATE:20260330
DTEND;VALUE=DATE:20260331
DTSTAMP:20260420T055403
CREATED:20250625T142235Z
LAST-MODIFIED:20250625T142247Z
UID:2731-1774828800-1774915199@nadeenschool.com
SUMMARY:International Day of Zero Waste
DESCRIPTION:The International Day of Zero Waste promotes responsible consumption and waste reduction to protect our planet. At Nadeen\, we use this day to raise awareness about sustainability and encourage mindful habits that make a difference.
URL:https://nadeenschool.com/event/international-day-of-zero-waste/
END:VEVENT
BEGIN:VEVENT
DTSTART;VALUE=DATE:20260331
DTEND;VALUE=DATE:20260401
DTSTAMP:20260420T055403
CREATED:20250805T104044Z
LAST-MODIFIED:20250805T104044Z
UID:3033-1774915200-1775001599@nadeenschool.com
SUMMARY:Year 7 Learner Conferences 3
DESCRIPTION:
URL:https://nadeenschool.com/event/year-7-learner-conferences-3/
END:VEVENT
END:VCALENDAR